BEGIN:VCALENDAR
VERSION:2.0
PRODID:-//Angelverein Heidensee Süd e.V. - ECPv6.15.20//NONSGML v1.0//EN
CALSCALE:GREGORIAN
METHOD:PUBLISH
X-ORIGINAL-URL:https://avhss.de
X-WR-CALDESC:Veranstaltungen für Angelverein Heidensee Süd e.V.
REFRESH-INTERVAL;VALUE=DURATION:PT1H
X-Robots-Tag:noindex
X-PUBLISHED-TTL:PT1H
BEGIN:VTIMEZONE
TZID:Europe/Helsinki
BEGIN:DAYLIGHT
TZOFFSETFROM:+0200
TZOFFSETTO:+0300
TZNAME:EEST
DTSTART:20250330T010000
END:DAYLIGHT
BEGIN:STANDARD
TZOFFSETFROM:+0300
TZOFFSETTO:+0200
TZNAME:EET
DTSTART:20251026T010000
END:STANDARD
BEGIN:DAYLIGHT
TZOFFSETFROM:+0200
TZOFFSETTO:+0300
TZNAME:EEST
DTSTART:20260329T010000
END:DAYLIGHT
BEGIN:STANDARD
TZOFFSETFROM:+0300
TZOFFSETTO:+0200
TZNAME:EET
DTSTART:20261025T010000
END:STANDARD
BEGIN:DAYLIGHT
TZOFFSETFROM:+0200
TZOFFSETTO:+0300
TZNAME:EEST
DTSTART:20270328T010000
END:DAYLIGHT
BEGIN:STANDARD
TZOFFSETFROM:+0300
TZOFFSETTO:+0200
TZNAME:EET
DTSTART:20271031T010000
END:STANDARD
END:VTIMEZONE
BEGIN:VEVENT
DTSTART;TZID=Europe/Helsinki:20260311T170000
DTEND;TZID=Europe/Helsinki:20260311T190000
DTSTAMP:20260420T124233
CREATED:20160428T080925Z
LAST-MODIFIED:20251218T080013Z
UID:97-1773248400-1773255600@avhss.de
SUMMARY:Vorstandssitzung März
DESCRIPTION:Gäste sind zu den Vorstandssitzungen jeweils um 18:00 Uhr eingeladen. Bitte melden Sie ihre Teilnahme vorher unter mail@avhss.de an.
URL:https://avhss.de/event/vorstandssitzung-maerz/
LOCATION:Anlage Heidensee\, Bornhövedstrasse 88a\, Schwerin\, 19055\, Deutschland
CATEGORIES:Vorstandssitzungen
ORGANIZER;CN="Angelverein Heidensee S%C3%BCd e.V.":MAILTO:mail@avhss.de
END:VEVENT
BEGIN:VEVENT
DTSTART;TZID=Europe/Helsinki:20260321T090000
DTEND;TZID=Europe/Helsinki:20260321T120000
DTSTAMP:20260420T124233
CREATED:20160428T070525Z
LAST-MODIFIED:20251218T075928Z
UID:87-1774083600-1774094400@avhss.de
SUMMARY:Frühjahrs-Arbeitseinsatz
DESCRIPTION:Frühjahrs-Arbeitseinsatz zur Vorbereitung auf die neue Angelsaison. Arbeitsgeräte sind von den Mitgliedern mitzubringen. Anstehende Arbeiten lt. Aushang und auf Ansage der reihenverantwortlichen. Außerdem wird die Wasserversorgung des Vereinsgeländes wieder angestellt. \n                            \n                            Nicht abgeleistete Pflichtstunden werden in der Jahresrechnung mit 25€/h in Rechnung gestellt. Jedes Mitglied ist für die Ableistung und Erfassung der Stunden beim Reihenverantwortlichen selbst verantwortlich!
URL:https://avhss.de/event/fruehjahrs-arbeitseinsatz/
LOCATION:Anlage Heidensee\, Bornhövedstrasse 88a\, Schwerin\, 19055\, Deutschland
CATEGORIES:Arbeitseinsätze
ORGANIZER;CN="Angelverein Heidensee S%C3%BCd e.V.":MAILTO:mail@avhss.de
END:VEVENT
END:VCALENDAR