BEGIN:VCALENDAR
VERSION:2.0
PRODID:-//Angelverein Heidensee Süd e.V. - ECPv6.15.20//NONSGML v1.0//EN
CALSCALE:GREGORIAN
METHOD:PUBLISH
X-ORIGINAL-URL:https://avhss.de
X-WR-CALDESC:Veranstaltungen für Angelverein Heidensee Süd e.V.
REFRESH-INTERVAL;VALUE=DURATION:PT1H
X-Robots-Tag:noindex
X-PUBLISHED-TTL:PT1H
BEGIN:VTIMEZONE
TZID:Europe/Helsinki
BEGIN:DAYLIGHT
TZOFFSETFROM:+0200
TZOFFSETTO:+0300
TZNAME:EEST
DTSTART:20250330T010000
END:DAYLIGHT
BEGIN:STANDARD
TZOFFSETFROM:+0300
TZOFFSETTO:+0200
TZNAME:EET
DTSTART:20251026T010000
END:STANDARD
BEGIN:DAYLIGHT
TZOFFSETFROM:+0200
TZOFFSETTO:+0300
TZNAME:EEST
DTSTART:20260329T010000
END:DAYLIGHT
BEGIN:STANDARD
TZOFFSETFROM:+0300
TZOFFSETTO:+0200
TZNAME:EET
DTSTART:20261025T010000
END:STANDARD
BEGIN:DAYLIGHT
TZOFFSETFROM:+0200
TZOFFSETTO:+0300
TZNAME:EEST
DTSTART:20270328T010000
END:DAYLIGHT
BEGIN:STANDARD
TZOFFSETFROM:+0300
TZOFFSETTO:+0200
TZNAME:EET
DTSTART:20271031T010000
END:STANDARD
END:VTIMEZONE
BEGIN:VEVENT
DTSTART;TZID=Europe/Helsinki:20260610T170000
DTEND;TZID=Europe/Helsinki:20260610T190000
DTSTAMP:20260420T135644
CREATED:20160426T105306Z
LAST-MODIFIED:20251218T075442Z
UID:21-1781110800-1781118000@avhss.de
SUMMARY:Vorstandssitzung Juni
DESCRIPTION:Gäste sind zu den Vorstandssitzungen jeweils um 18:00 Uhr eingeladen. Bitte melden Sie ihre Teilnahme vorher unter mail@avhss.de an.
URL:https://avhss.de/event/vorstandssitzung-juni/
LOCATION:Anlage Heidensee\, Bornhövedstrasse 88a\, Schwerin\, 19055\, Deutschland
CATEGORIES:Vorstandssitzungen
ORGANIZER;CN="Angelverein Heidensee S%C3%BCd e.V.":MAILTO:mail@avhss.de
END:VEVENT
BEGIN:VEVENT
DTSTART;TZID=Europe/Helsinki:20260627T090000
DTEND;TZID=Europe/Helsinki:20260627T170000
DTSTAMP:20260420T135644
CREATED:20160428T071246Z
LAST-MODIFIED:20251218T075410Z
UID:89-1782550800-1782579600@avhss.de
SUMMARY:Kinderangeln und Sommerfest des Vereins
DESCRIPTION:Kinderangeln und Sommer Grill- Fest des Angelvereins Heidensee Süd e.V. \nVon 9:00 – 13:00 Uhr findet unser diesjähriges Kinderangeln des Angelvereins Heidensee Süd e.V. statt. Um 13 Uhr laden wir euch dann mit Partner ein\, in fröhlicher Runde ein paar schöne Stunden bei leckerem Spanferkel und kühlen Getränken zu verbringen. Da wir auch dieses Jahr wieder umweltfreundlich feiern und keinen unnötigen Müll produzieren wollen\, seid ihr aufgerufen\, euer eigenes Besteck und Geschirr mitzubringen!  Wir freuen uns auf eine rege Teilnahme der Vereinsmitglieder und wünschen allen dabei eine angenehme Zeit! \n  \n 
URL:https://avhss.de/event/sommerfest/
LOCATION:Anlage Heidensee\, Bornhövedstrasse 88a\, Schwerin\, 19055\, Deutschland
CATEGORIES:Vereinsfeier
ORGANIZER;CN="Angelverein Heidensee S%C3%BCd e.V.":MAILTO:mail@avhss.de
END:VEVENT
END:VCALENDAR