BEGIN:VCALENDAR
VERSION:2.0
PRODID:-//Angelverein Heidensee Süd e.V. - ECPv6.15.20//NONSGML v1.0//EN
CALSCALE:GREGORIAN
METHOD:PUBLISH
X-ORIGINAL-URL:https://avhss.de
X-WR-CALDESC:Veranstaltungen für Angelverein Heidensee Süd e.V.
REFRESH-INTERVAL;VALUE=DURATION:PT1H
X-Robots-Tag:noindex
X-PUBLISHED-TTL:PT1H
BEGIN:VTIMEZONE
TZID:Europe/Helsinki
BEGIN:DAYLIGHT
TZOFFSETFROM:+0200
TZOFFSETTO:+0300
TZNAME:EEST
DTSTART:20250330T010000
END:DAYLIGHT
BEGIN:STANDARD
TZOFFSETFROM:+0300
TZOFFSETTO:+0200
TZNAME:EET
DTSTART:20251026T010000
END:STANDARD
BEGIN:DAYLIGHT
TZOFFSETFROM:+0200
TZOFFSETTO:+0300
TZNAME:EEST
DTSTART:20260329T010000
END:DAYLIGHT
BEGIN:STANDARD
TZOFFSETFROM:+0300
TZOFFSETTO:+0200
TZNAME:EET
DTSTART:20261025T010000
END:STANDARD
BEGIN:DAYLIGHT
TZOFFSETFROM:+0200
TZOFFSETTO:+0300
TZNAME:EEST
DTSTART:20270328T010000
END:DAYLIGHT
BEGIN:STANDARD
TZOFFSETFROM:+0300
TZOFFSETTO:+0200
TZNAME:EET
DTSTART:20271031T010000
END:STANDARD
END:VTIMEZONE
BEGIN:VEVENT
DTSTART;VALUE=DATE:20260901
DTEND;VALUE=DATE:20260916
DTSTAMP:20260420T163631
CREATED:20220422T090629Z
LAST-MODIFIED:20251218T075320Z
UID:3630-1788220800-1789516799@avhss.de
SUMMARY:Energiezähler ablesen und Zählerstand melden!
DESCRIPTION:In der Zeit vom 01.09. bis zum 15.09. jeden Jahres sind die Schuppeneigentümer der Blöcke 2 / 6 / 7 / 8 / 9 / 10 (innenliegender Stromzähler) aufgefordert\, über das Meldeportal unserer Webseite ihren aktuellen Zählerstand zu melden. Die Meldung kann auch mittels Smartphone durch scannen des QR-Codes oder schriftlich per Meldebogen und Einwerfen in den Vereinsbriefkasten erfolgen. Schuppeneigentümer mit zentralen Zählerschränken (Block 1/3/4/5) brauchen keine Zählerstände melden\, diese Zählerstände werden bei der Hauptzählerablesung mit erfasst. Bei der elektronischen Zählerstandsmeldung erfolgt unmittelbar nach der Meldung eine Meldebestätigung mit den eingegebenen Daten auf die angegebene email Adresse. \nhttps://avhss.de/kontakt/zaehlerstand-elektro-melden/ \nWird keine oder keine fristgerechte Zählerstandsmeldung vorgenommen\, wird der Verbrauch anhand der vorhandenen Restdifferenz geschätzt und in Rechnung gestellt!
URL:https://avhss.de/event/energiezaehler-ablesen-und-zaehlerstand-melden/
LOCATION:Anlage Heidensee\, Bornhövedstrasse 88a\, Schwerin\, 19055\, Deutschland
CATEGORIES:Allgemein
ORGANIZER;CN="Angelverein Heidensee S%C3%BCd e.V.":MAILTO:mail@avhss.de
END:VEVENT
BEGIN:VEVENT
DTSTART;TZID=Europe/Helsinki:20260909T170000
DTEND;TZID=Europe/Helsinki:20260909T190000
DTSTAMP:20260420T163631
CREATED:20160428T081918Z
LAST-MODIFIED:20251218T075230Z
UID:99-1788973200-1788980400@avhss.de
SUMMARY:Vorstandssitzung September
DESCRIPTION:Gäste sind zu den Vorstandssitzungen jeweils um 18:00 Uhr eingeladen. Bitte melden Sie ihre Teilnahme vorher unter mail@avhss.de an.
URL:https://avhss.de/event/vorstandssitzung-september/
LOCATION:Anlage Heidensee\, Bornhövedstrasse 88a\, Schwerin\, 19055\, Deutschland
CATEGORIES:Vorstandssitzungen
ORGANIZER;CN="Angelverein Heidensee S%C3%BCd e.V.":MAILTO:mail@avhss.de
END:VEVENT
BEGIN:VEVENT
DTSTART;TZID=Europe/Helsinki:20260919T080000
DTEND;TZID=Europe/Helsinki:20260919T110000
DTSTAMP:20260420T163631
CREATED:20160428T071357Z
LAST-MODIFIED:20251218T075151Z
UID:90-1789804800-1789815600@avhss.de
SUMMARY:Königsangeln
DESCRIPTION:Zu unserem traditionellen Königsangeln sind wieder alle Vereinsmitglieder aufgerufen\, durch rege Beteiligung an der Ermittlung der besten Angler unseres Vereins mitzuwirken und anschließend den Tag mit einem gemütlichen Beisammensein bei Bratwurst und kühlen Getränken ausklingen zu lassen.\nTreffpunkt ist um 8:00 Uhr am Trockenschuppen Block 2. \nPetri Heil!
URL:https://avhss.de/event/koenigsangeln/
LOCATION:Anlage Heidensee\, Bornhövedstrasse 88a\, Schwerin\, 19055\, Deutschland
CATEGORIES:Gemeinschaftsangeln
ORGANIZER;CN="Angelverein Heidensee S%C3%BCd e.V.":MAILTO:mail@avhss.de
END:VEVENT
END:VCALENDAR