BEGIN:VCALENDAR
VERSION:2.0
PRODID:-//Angelverein Heidensee Süd e.V. - ECPv6.15.20//NONSGML v1.0//EN
CALSCALE:GREGORIAN
METHOD:PUBLISH
X-ORIGINAL-URL:https://avhss.de
X-WR-CALDESC:Veranstaltungen für Angelverein Heidensee Süd e.V.
REFRESH-INTERVAL;VALUE=DURATION:PT1H
X-Robots-Tag:noindex
X-PUBLISHED-TTL:PT1H
BEGIN:VTIMEZONE
TZID:Europe/Helsinki
BEGIN:DAYLIGHT
TZOFFSETFROM:+0200
TZOFFSETTO:+0300
TZNAME:EEST
DTSTART:20250330T010000
END:DAYLIGHT
BEGIN:STANDARD
TZOFFSETFROM:+0300
TZOFFSETTO:+0200
TZNAME:EET
DTSTART:20251026T010000
END:STANDARD
BEGIN:DAYLIGHT
TZOFFSETFROM:+0200
TZOFFSETTO:+0300
TZNAME:EEST
DTSTART:20260329T010000
END:DAYLIGHT
BEGIN:STANDARD
TZOFFSETFROM:+0300
TZOFFSETTO:+0200
TZNAME:EET
DTSTART:20261025T010000
END:STANDARD
BEGIN:DAYLIGHT
TZOFFSETFROM:+0200
TZOFFSETTO:+0300
TZNAME:EEST
DTSTART:20270328T010000
END:DAYLIGHT
BEGIN:STANDARD
TZOFFSETFROM:+0300
TZOFFSETTO:+0200
TZNAME:EET
DTSTART:20271031T010000
END:STANDARD
END:VTIMEZONE
BEGIN:VEVENT
DTSTART;TZID=Europe/Helsinki:20261104T170000
DTEND;TZID=Europe/Helsinki:20261104T190000
DTSTAMP:20260420T192812
CREATED:20160428T082052Z
LAST-MODIFIED:20251218T074851Z
UID:101-1793811600-1793818800@avhss.de
SUMMARY:Vorstandssitzung November
DESCRIPTION:Gäste sind zu den Vorstandssitzungen jeweils um 18:00 Uhr eingeladen. Bitte melden Sie ihre Teilnahme vorher unter mail@avhss.de an.
URL:https://avhss.de/event/vorstandssitzung-november/
LOCATION:Anlage Heidensee\, Bornhövedstrasse 88a\, Schwerin\, 19055\, Deutschland
CATEGORIES:Vorstandssitzungen
ORGANIZER;CN="Angelverein Heidensee S%C3%BCd e.V.":MAILTO:mail@avhss.de
END:VEVENT
BEGIN:VEVENT
DTSTART;TZID=Europe/Helsinki:20261114T090000
DTEND;TZID=Europe/Helsinki:20261114T120000
DTSTAMP:20260420T192812
CREATED:20160428T075454Z
LAST-MODIFIED:20251218T074758Z
UID:93-1794646800-1794657600@avhss.de
SUMMARY:Mitgliederversammung
DESCRIPTION:Mitgliederversammlung und Beschlussfassungen entsprechend der Tagesordnung lt. Einladungsschreiben. Evtl. ein Sachvortrag zu einem aktuellen Thema.
URL:https://avhss.de/event/mitgliederversammung/
LOCATION:CAT Campus am Turm\, Hamburger Allee 124\, Schwerin\, MV\, 19063
CATEGORIES:Mitgliederversammlung
ORGANIZER;CN="Angelverein Heidensee S%C3%BCd e.V.":MAILTO:mail@avhss.de
END:VEVENT
END:VCALENDAR