BEGIN:VCALENDAR
VERSION:2.0
PRODID:-//Angelverein Heidensee Süd e.V. - ECPv6.15.20//NONSGML v1.0//EN
CALSCALE:GREGORIAN
METHOD:PUBLISH
X-ORIGINAL-URL:https://avhss.de
X-WR-CALDESC:Veranstaltungen für Angelverein Heidensee Süd e.V.
REFRESH-INTERVAL;VALUE=DURATION:PT1H
X-Robots-Tag:noindex
X-PUBLISHED-TTL:PT1H
BEGIN:VTIMEZONE
TZID:Europe/Helsinki
BEGIN:DAYLIGHT
TZOFFSETFROM:+0200
TZOFFSETTO:+0300
TZNAME:EEST
DTSTART:20250330T010000
END:DAYLIGHT
BEGIN:STANDARD
TZOFFSETFROM:+0300
TZOFFSETTO:+0200
TZNAME:EET
DTSTART:20251026T010000
END:STANDARD
BEGIN:DAYLIGHT
TZOFFSETFROM:+0200
TZOFFSETTO:+0300
TZNAME:EEST
DTSTART:20260329T010000
END:DAYLIGHT
BEGIN:STANDARD
TZOFFSETFROM:+0300
TZOFFSETTO:+0200
TZNAME:EET
DTSTART:20261025T010000
END:STANDARD
BEGIN:DAYLIGHT
TZOFFSETFROM:+0200
TZOFFSETTO:+0300
TZNAME:EEST
DTSTART:20270328T010000
END:DAYLIGHT
BEGIN:STANDARD
TZOFFSETFROM:+0300
TZOFFSETTO:+0200
TZNAME:EET
DTSTART:20271031T010000
END:STANDARD
END:VTIMEZONE
BEGIN:VEVENT
DTSTART;TZID=Europe/Helsinki:20261209T180000
DTEND;TZID=Europe/Helsinki:20261209T210000
DTSTAMP:20260420T210015
CREATED:20160428T082224Z
LAST-MODIFIED:20251218T074706Z
UID:102-1796839200-1796850000@avhss.de
SUMMARY:Vorstandssitzung Dezember
DESCRIPTION:Jahresabschluss für alle ehrenamtlich tätigen Vereinsmitglieder in gemütlicher Runde. Veranstaltungsort wird noch bekannt gegeben.
URL:https://avhss.de/event/vorstandssitzung-dezember/
CATEGORIES:Vorstandssitzungen
ORGANIZER;CN="Angelverein Heidensee S%C3%BCd e.V.":MAILTO:mail@avhss.de
END:VEVENT
END:VCALENDAR